BEGIN:VCALENDAR
VERSION:2.0
PRODID:-//PaintNow.ch - ECPv6.15.12.2//NONSGML v1.0//EN
CALSCALE:GREGORIAN
METHOD:PUBLISH
X-WR-CALNAME:PaintNow.ch
X-ORIGINAL-URL:https://paintnow.ch
X-WR-CALDESC:Veranstaltungen für PaintNow.ch
REFRESH-INTERVAL;VALUE=DURATION:PT1H
X-Robots-Tag:noindex
X-PUBLISHED-TTL:PT1H
BEGIN:VTIMEZONE
TZID:Europe/Zurich
BEGIN:DAYLIGHT
TZOFFSETFROM:+0100
TZOFFSETTO:+0200
TZNAME:CEST
DTSTART:20250330T010000
END:DAYLIGHT
BEGIN:STANDARD
TZOFFSETFROM:+0200
TZOFFSETTO:+0100
TZNAME:CET
DTSTART:20251026T010000
END:STANDARD
BEGIN:DAYLIGHT
TZOFFSETFROM:+0100
TZOFFSETTO:+0200
TZNAME:CEST
DTSTART:20260329T010000
END:DAYLIGHT
BEGIN:STANDARD
TZOFFSETFROM:+0200
TZOFFSETTO:+0100
TZNAME:CET
DTSTART:20261025T010000
END:STANDARD
BEGIN:DAYLIGHT
TZOFFSETFROM:+0100
TZOFFSETTO:+0200
TZNAME:CEST
DTSTART:20270328T010000
END:DAYLIGHT
BEGIN:STANDARD
TZOFFSETFROM:+0200
TZOFFSETTO:+0100
TZNAME:CET
DTSTART:20271031T010000
END:STANDARD
END:VTIMEZONE
BEGIN:VEVENT
DTSTART;TZID=Europe/Zurich:20260421T100000
DTEND;TZID=Europe/Zurich:20260421T180000
DTSTAMP:20260421T121429
CREATED:20260305T205523Z
LAST-MODIFIED:20260316T215336Z
UID:10004085-1776765600-1776794400@paintnow.ch
SUMMARY:Frühlingsferien: Ferienpass
DESCRIPTION:https://paintnow.ch/wp-content/uploads/2026/02/1080-all-you-can-create-Workshop-Zurich-1.mp4\n  \nALL YOU CAN CREATE – Frühlingsferien Special 🌸\nKeine Lust auf Langeweile in den Frühlingsferien? Dann komm zu ALL YOU CAN CREATE im PaintNow Atelier! Dieses besondere Ferienangebot ist perfekt für Kinder\, die gerne kreativ sind und verschiedene Techniken ausprobieren möchten. Inspiriert vom Prinzip „All You Can Eat“ kannst du hier so viel gestalten\, wie du möchtest – innerhalb deiner gebuchten Zeit. \nDu kannst zwischen 2 Stunden\, 4 Stunden oder 8 Stunden Kreativzeit wählen. Je nachdem\, wie viel Zeit du hast und wie viele Projekte du umsetzen möchtest. Wenn du das 8-Stunden-Paket buchst\, kannst du gerne eine Lunchbox mitbringen und dein Mittagessen im Atelier essen\, bevor du weiter kreativ arbeitest. \nBeim Checkout kannst du einfach kurz angeben: \n\nUm welche Uhrzeit du kommen möchtest\nOb du ein Mittagessen mitbringst\n\nSo kann ich alles gut planen. \nWas kannst du alles kreieren?\nWährend der Frühlingsferien stehen dir viele kreative Aktivitäten zur Auswahl. Du kannst dich auf eine Technik konzentrieren oder mehrere ausprobieren. \nManga zeichnen (1.5 hr) *fängt um 13:00 Uhr anLerne Schritt für Schritt\, wie man Manga-Figuren zeichnet. Du erfährst die Grundlagen von Manga-Gesichtern\, Augen und Proportionen und kannst deine eigene Figur gestalten. \nTöpfern (2-3 hr) \nForme mit deinen Händen eine kleine Schale\, Mini Vase\, oder eine kleine Figur! Ich zeige dir\, wie es geht! \nAcrylmalen (2 hr)Male dein eigenes Bild mit Acrylfarben auf Leinwand. Egal ob süße Tiere\, Food-Illustrationen oder Frühlingsmotive – hier kannst du deiner Fantasie freien Lauf lassen. \nAusmalen (0.5 hr)Perfekt zum Entspannen zwischen anderen Projekten. Wähle eine Vorlage oder gestalte dein eigenes Motiv und experimentiere mit Farben. \nDecoden (0.5 – 1 hr)Bei dieser beliebten Technik dekorierst du Gegenstände mit einer cremigen Masse und süßen Deko-Elementen. Zum Beispiel Etuis\, Spiegel oder kleine Boxen. Das Werk muss über Nacht im Atelier trocknen und kann am nächsten Tag abgeholt werden. (max 3) \nPunch Needle (1 – 2 hr)Mit Garn und einer speziellen Nadel entstehen strukturierte Muster und kleine textile Kunstwerke. Diese Technik ist leicht zu lernen und macht besonders viel Spaß. \nTotebag häkeln (1 hr)Mit einfachen Häkeltechniken kannst du eine kleine Tasche oder ein Accessoire aus Garn herstellen. \nSchmuck & Schlüsselanhänger gestalten (0.5 – 1 hr)Kreiere deine eigenen Armbänder\, Anhänger oder kleine Geschenke. \nHandlettering & Grußkarten gestalten (1 hr – 1.5 hr)Lerne schöne Schriftzüge und gestalte persönliche Karten – perfekt für Geburtstage oder kleine Nachrichten. \nNägel gestalten (1 hr)Du kannst dir auch kreativ die Nägel gestalten. Bitte bring aus hygienischen Gründen deine eigene Nagelfeile und deinen eigenen Nagellack mit. \nEine Regel\nWie beim „All You Can Eat“ gibt es bei All You Can Create nur eine wichtige Regel: \n👉 Du musst dein Projekt fertigstellen. Wenn ein Projekt unvollständig wirkt\, fällt eine zusätzliche Gebühr von 10 CHF an. Diese Regel hilft dabei\, den kreativen Raum fair für alle zu nutzen und motiviert dazu\, Projekte bewusst abzuschließen. \nFür wen ist ALL YOU CAN CREATE? \nDas Angebot richtet sich vor allem an Kinder\, aber auch kreative Jugendliche sind willkommen. Vorkenntnisse brauchst du keine – alles wird Schritt für Schritt erklärt. \nDie Atmosphäre im Atelier ist entspannt\, kreativ und spielerisch. Hier geht es nicht um Perfektion\, sondern darum\, Neues auszuprobieren\, Spaß zu haben und eigene Ideen umzusetzen. \nAm Ende der Frühlingsferien gehst du nicht nur mit mehreren selbstgemachten Kunstwerken nach Hause\, sondern auch mit vielen neuen kreativen Erfahrungen. \nKlingt gut? Dann sichere dir deinen Platz und erlebe kreative Frühlingsferien bei PaintNow! 🎨
URL:https://paintnow.ch/workshop/fruehlingsferien-ferienpass-zuerich/
LOCATION:PaintNow Atelier Zürich\, Seilergraben 17\, Zürich\, 8001
CATEGORIES:Acryl Malen,Crochet,Decoden,Event,Manga,Schmuck
ATTACH;FMTTYPE=image/png:https://paintnow.ch/wp-content/uploads/2026/02/540-All-you-can-create-Workshop-Zurich-1.png
END:VEVENT
BEGIN:VEVENT
DTSTART;TZID=Europe/Zurich:20260421T130000
DTEND;TZID=Europe/Zurich:20260421T143000
DTSTAMP:20260421T121429
CREATED:20260320T163848Z
LAST-MODIFIED:20260320T163848Z
UID:10004137-1776776400-1776781800@paintnow.ch
SUMMARY:KIDS Manga Zeichnen
DESCRIPTION:Manga zeichnen wirkt auf den ersten Blick oft kompliziert und einschüchternd. Die ausdrucksstarken Augen\, die besonderen Gesichtszüge und die dynamischen Figuren lassen viele glauben\, dass man dafür jahrelange Erfahrung braucht. Doch genau hier setzt dieser Manga-Zeichenworkshop an: Manga zu zeichnen ist viel einfacher\, als du denkst\, wenn man die richtigen Grundlagen lernt und Schritt für Schritt angeleitet wird. \nIn meinen Manga-Zeichenworkshops lernen Kinder und Jugendliche auf spielerische und verständliche Weise die wichtigsten Techniken des Manga-Zeichnens kennen. Der Kurs ist so aufgebaut\, dass er auch ohne Vorkenntnisse gut verständlich ist und von Anfang an Erfolgserlebnisse vermittelt. Ziel ist es\, den Teilnehmenden die Angst vor dem Zeichnen zu nehmen und ihre Kreativität zu fördern. \nAblauf: \n\nFundamentale Aufwärm- und Sketch Übungen (10-15 min)\nGrundlagen: Manga Gesicht (30 min)\nGemeinsam eine Manga Figur zeichnen (45-60 min)\n\nAlle benötigten Materialien sind im Kurs inklusive\, sodass nichts mitgebracht werden muss. Zeichenpapier\, Stifte und weitere Materialien stehen vor Ort zur Verfügung. \nFür wen?\nDer Manga-Zeichenkurs richtet sich speziell an Anfänger*innen im Alter von 7 bis 17 Jahren. Er eignet sich für alle\, die Manga mögen\, gerne zeichnen oder einfach etwas Neues ausprobieren möchten. Geduld\, Freude am Zeichnen und Neugier sind die einzigen Voraussetzungen. Am Ende des Workshops nehmen die Teilnehmenden nicht nur ihre Zeichnungen mit nach Hause\, sondern auch neue Fähigkeiten und mehr Selbstvertrauen in ihre kreative Ausdruckskraft. \n✨ Mehr zeichnen\, weniger zahlen\nWer regelmäßig zeichnen möchte\, profitiert vom Kursabo. Mit einem Abo (4x\, 6x oder 12x) wird jede Lektion deutlich günstiger. Das Abo ist ideal für alle\, die motiviert sind\, dranbleiben möchten und ihre Zeichenskills konsequent verbessern wollen. Regelmäßige Termine sorgen für Struktur\, Routine und sichtbare Fortschritte – genau das\, was viele beim Zeichnen brauchen. \nDu kannst ganz flexibel entscheiden: \nEinmal Manga zeichnen:Ein einzelner Besuch kostet 69 CHF. Ideal zum Reinschnuppern oder für einen spontanen Manga Kurs. \nOder du wirst Teil des Manga Clubs: \n🧑🏻‍🎨 Manga Club „Starter Level Creator“ – 4 Besuche für 240 CHFDu kommst viermal und bekommst zusätzlich ein Manga Club Etui – perfekt für deine kreativen Schätze! \n🎨 Manga Club „Level Up Creator“ – 6 Besuche für 330 CHFDu kommst sechsmal und bekommst zusätzlich eine Manga Club Tasche mit Etui – perfekt für deine kreativen Schätze! \n🔥 Manga Club „Boss Mode Creator“ – 12 Besuche für 599 CHFZwölfmal kreativ sein und als besonderes Extra erhältst du einen stylischen Manga Club Etui + Tasche + Hoodie. Für alle\, die gar nicht genug vom Gestalten bekommen können! \nDie Kurse können flexibel eingelöst werden.
URL:https://paintnow.ch/workshop/kids-manga-zeichnen-lernen-zurich-10/
LOCATION:PaintNow Atelier Zürich\, Seilergraben 17\, Zürich\, 8001
CATEGORIES:Manga
ATTACH;FMTTYPE=image/png:https://paintnow.ch/wp-content/uploads/2025/12/Manga-Zeichnen-1-PaintNow.png
END:VEVENT
END:VCALENDAR